BEGIN:VCALENDAR
VERSION:2.0
PRODID:-//ChamberMaster//Event Calendar 2.0//EN
METHOD:PUBLISH
X-PUBLISHED-TTL:P3D
REFRESH-INTERVAL:P3D
CALSCALE:GREGORIAN
BEGIN:VEVENT
DTSTART:20210722T140000Z
DTEND:20210722T153000Z
X-MICROSOFT-CDO-ALLDAYEVENT:FALSE
SUMMARY:SEO Strategies and Tactics for Small Business Owners
DESCRIPTION:Workshop Outline\n\n\n	Strategies vs Tactics\n	How to Approach SEO\n	Organic SEO vs Paid SEO\n	Google My Business\n	Content is King\n	Using analytics for growth\n\n\n\nSpeaker(s): Wendy Navarro - Navarro Creative Group
X-ALT-DESC;FMTTYPE=text/html:<div class="cdworkshopHTMLinfo" style="padding-top: 1em\; padding-bottom: 1em\; color: rgb(0\, 0\, 0)\; font-family: Arial\, Helvetica\, sans-serif\; font-size: 16px\;">\n<p><strong>Workshop Outline</strong></p>\n\n<ul>\n	<li>Strategies vs Tactics</li>\n	<li>How to Approach SEO</li>\n	<li>Organic SEO vs Paid SEO</li>\n	<li>Google My Business</li>\n	<li>Content is King</li>\n	<li>Using analytics for growth</li>\n</ul>\n</div>\n\n<p class="cdworkshoptextinfo" style="white-space: pre-wrap\; color: rgb(0\, 0\, 0)\; font-family: Arial\, Helvetica\, sans-serif\; font-size: 16px\;">Speaker(s): Wendy Navarro - Navarro Creative Group</p>\n
LOCATION:TSBDC @ Volunteer State Community College 300 Bldg. 300 Bldg. Nashville Pike Ofc. 103C Gallatin\, TN 37066 To get here\, take the GAP Blvd entrance from Nashville Pike into Vol State. Then take your first entrance on the right into the parking lot. The 300 Building will located in the round-a-bout and has the number 300 on the front.
UID:e.629.33456
SEQUENCE:3
DTSTAMP:20260423T014538Z
URL:https://members.gallatintn.org/events/details/seo-strategies-and-tactics-for-small-business-owners-33456
END:VEVENT

END:VCALENDAR
