BEGIN:VCALENDAR
VERSION:2.0
PRODID:-//ChamberMaster//Event Calendar 2.0//EN
METHOD:PUBLISH
X-PUBLISHED-TTL:P3D
REFRESH-INTERVAL:P3D
CALSCALE:GREGORIAN
BEGIN:VEVENT
DTSTART:20221112T160000Z
DTEND:20221112T220000Z
X-MICROSOFT-CDO-ALLDAYEVENT:FALSE
SUMMARY:Merry Market at the Gallatin Farmers Market
DESCRIPTION:Merry Market Day at the Gallatin Farmers Market will take place in conjunction with Gallatin "Tinsel & Treasures" Holiday Merchant Open House Weekend on Saturday\, November 12th from 10am to 4pm. Local handmade crafts and artisan finds plus the last of the fall harvest will be available for purchase.  Live Music from local singer/songwriter\, Mattie Taylor. \n\n\n\nFree to attend\, Merry Market at the Gallatin Farmers Market is a great place to get a jump start on your Christmas shopping.\n\nVendors as of 11/02/2022: Anamchara Farmstead LLC | Aun-tae's Sweet Confections | BeeKissed Caramels | Gallatin Public Library of Sumner County | Hollowbrook Treats | German Roasted Nuts | Pet Wants Hendersonville | Roast & Brews | Scent of the Sun | The Handcrafted Hobbit LLC. | Natureworks TN | The Piddlin' Daisy | Creative Carmella | Workmanship Board Co. | Wild & Free Knits | KB Popcorn | Sumner Ceramics | Rusticks Designs\nFood Truck: Don Miguelito's Tacos & More\n\n\nThis is a Gallatin Farmers Market event\, presented by the Gallatin Area Chamber of Commerce.
X-ALT-DESC;FMTTYPE=text/html:<div class="kvgmc6g5 cxmmr5t8 oygrvhab hcukyx3x c1et5uql" style="overflow-wrap: break-word\; margin: 0px\; font-family: Helvetica\, Arial\, sans-serif\; color: rgb(228\, 230\, 235)\; font-size: 15px\; background-color: rgb(36\, 37\, 38)\;">\n<div class="kvgmc6g5 cxmmr5t8 oygrvhab hcukyx3x c1et5uql" style="overflow-wrap: break-word\; margin: 0px\; font-family: Helvetica\, Arial\, sans-serif\; color: rgb(5\, 5\, 5)\; font-size: 15px\; background-color: rgb(255\, 255\, 255)\;">\n<div class="kvgmc6g5 cxmmr5t8 oygrvhab hcukyx3x c1et5uql" style="overflow-wrap: break-word\; margin: 0px\; font-family: Helvetica\, Arial\, sans-serif\; color: rgb(5\, 5\, 5)\; font-size: 15px\; background-color: rgb(255\, 255\, 255)\;">\n<div background-color:="" class="kvgmc6g5 cxmmr5t8 oygrvhab hcukyx3x c1et5uql" color:="" font-size:="" segoe="" style="overflow-wrap: break-word\; margin: 0px\; font-family: " ui="">\n<div class="kvgmc6g5 cxmmr5t8 oygrvhab hcukyx3x c1et5uql" style="overflow-wrap: break-word\; margin: 0px\; font-family: Roboto\, Helvetica\, Arial\, sans-serif\; color: rgb(5\, 5\, 5)\; font-size: 15px\;">Merry Market Day at the Gallatin Farmers Market will take place in conjunction with Gallatin &quot\;Tinsel &amp\; Treasures&quot\; Holiday Merchant Open House Weekend on Saturday\, November 12th from 10am to 4pm. Local handmade crafts and artisan finds plus the last of the fall harvest will be available for purchase.&nbsp\; Live Music from local singer/songwriter\, Mattie Taylor.&nbsp\;<br />\n<br />\nFree to attend\, Merry Market at the Gallatin Farmers Market is a great place to get a jump start on your Christmas shopping.<br />\n<span style="color:#000000\;">Vendors as of 11/02/2022:&nbsp\;</span><span style="font-family: &quot\;YADZ-Xou1-M 0&quot\;\, _fb_\, auto\; letter-spacing: 0.04em\; color: rgb(0\, 0\, 0)\;"><span class="JsGRdQ">Anamchara Farmstead LLC |&nbsp\;</span></span><span style="font-family: &quot\;YADZ-Xou1-M 0&quot\;\, _fb_\, auto\; letter-spacing: 0.04em\; color: rgb(0\, 0\, 0)\;"><span class="JsGRdQ">Aun-tae&rsquo\;s Sweet Confections |&nbsp\;</span></span><span style="font-family: &quot\;YADZ-Xou1-M 0&quot\;\, _fb_\, auto\; letter-spacing: 0.04em\; color: rgb(0\, 0\, 0)\;"><span class="JsGRdQ">BeeKissed Caramels |&nbsp\;</span></span><span style="font-family: &quot\;YADZ-Xou1-M 0&quot\;\, _fb_\, auto\; letter-spacing: 0.04em\; color: rgb(0\, 0\, 0)\;"><span class="JsGRdQ">Gallatin Public Library of Sumner County |&nbsp\;</span></span><span style="font-family: &quot\;YADZ-Xou1-M 0&quot\;\, _fb_\, auto\; letter-spacing: 0.04em\; color: rgb(0\, 0\, 0)\;"><span class="JsGRdQ">Hollowbrook Treats | German Roasted Nuts |&nbsp\;</span></span><span style="font-family: &quot\;YADZ-Xou1-M 0&quot\;\, _fb_\, auto\; letter-spacing: 0.04em\; color: rgb(0\, 0\, 0)\;"><span class="JsGRdQ">Pet Wants Hendersonville |&nbsp\;</span></span><span style="font-family: &quot\;YADZ-Xou1-M 0&quot\;\, _fb_\, auto\; letter-spacing: 0.04em\; color: rgb(0\, 0\, 0)\;"><span class="JsGRdQ">Roast &amp\; Brews |&nbsp\;</span></span><span style="font-family: &quot\;YADZ-Xou1-M 0&quot\;\, _fb_\, auto\; letter-spacing: 0.04em\; color: rgb(0\, 0\, 0)\;"><span class="JsGRdQ">Scent of the Sun |&nbsp\;</span></span><span style="font-family: &quot\;YADZ-Xou1-M 0&quot\;\, _fb_\, auto\; letter-spacing: 0.04em\; color: rgb(0\, 0\, 0)\;"><span class="JsGRdQ">The Handcrafted Hobbit LLC. |&nbsp\;</span></span><span style="font-family: &quot\;YADZ-Xou1-M 0&quot\;\, _fb_\, auto\; letter-spacing: 0.04em\; color: rgb(0\, 0\, 0)\;"><span class="JsGRdQ">Natureworks TN |&nbsp\;</span></span><span style="font-family: &quot\;YADZ-Xou1-M 0&quot\;\, _fb_\, auto\; letter-spacing: 0.04em\; color: rgb(0\, 0\, 0)\;"><span class="JsGRdQ">The Piddlin&#39\; Daisy |&nbsp\;</span></span><span style="font-family: &quot\;YADZ-Xou1-M 0&quot\;\, _fb_\, auto\; letter-spacing: 0.04em\; color: rgb(0\, 0\, 0)\;"><span class="JsGRdQ">Creative Carmella |&nbsp\;</span></span><span style="font-family: &quot\;YADZ-Xou1-M 0&quot\;\, _fb_\, auto\; letter-spacing: 0.04em\; color: rgb(0\, 0\, 0)\;"><span class="JsGRdQ">Workmanship Board Co. |&nbsp\;</span></span><span style="font-family: &quot\;YADZ-Xou1-M 0&quot\;\, _fb_\, auto\; letter-spacing: 0.04em\; color: rgb(0\, 0\, 0)\;"><span class="JsGRdQ">Wild &amp\; Free Knits |&nbsp\;</span></span><span style="font-family: &quot\;YADZ-Xou1-M 0&quot\;\, _fb_\, auto\; letter-spacing: 0.04em\; color: rgb(0\, 0\, 0)\;"><span class="JsGRdQ">KB Popcorn |&nbsp\;</span></span><span style="font-family: &quot\;YADZ-Xou1-M 0&quot\;\, _fb_\, auto\; letter-spacing: 0.04em\; color: rgb(0\, 0\, 0)\;"><span class="JsGRdQ">Sumner Ceramics |&nbsp\;</span></span><span style="font-family: &quot\;YADZ-Xou1-M 0&quot\;\, _fb_\, auto\; letter-spacing: 0.04em\; color: rgb(0\, 0\, 0)\;"><span class="JsGRdQ">Rusticks Designs</span></span>\n<p class="_04xlpA align-center para-style-title direction-ltr" style="color: rgb(255\, 255\, 255)\; font-family: &quot\;YADZ-Xou1-M 0&quot\;\, _fb_\, auto\; --font-size:26.6667px\; --line-height:1\; letter-spacing: 0.04em\; line-height: 26px\;"><span style="color:#000000\;"><span class="JsGRdQ">Food Truck:&nbsp\;Don Miguelito&#39\;s Tacos &amp\; More</span></span></p>\n</div>\n\n<div class="o9v6fnle cxmmr5t8 oygrvhab hcukyx3x c1et5uql" style="overflow-wrap: break-word\; margin: 0.5em 0px 0px\; font-family: Roboto\, Helvetica\, Arial\, sans-serif\; color: rgb(5\, 5\, 5)\; font-size: 15px\;"><span style="color:#000000\;">This is a Gallatin Farmers Market event\, presented by the Gallatin Area Chamber of Commerce.</span></div>\n</div>\n\n<div background-color:="" class="o9v6fnle cxmmr5t8 oygrvhab hcukyx3x c1et5uql" color:="" font-size:="" segoe="" style="overflow-wrap: break-word\; margin: 0.5em 0px 0px\; font-family: " ui="">&nbsp\;</div>\n</div>\n</div>\n</div>\n
LOCATION:Gallatin Farmers Market 160 W Franklin St Gallatin\, TN 37066 Historic Stonewall 332 E Main Street\, Gallatin TN 37066
UID:e.629.33671
SEQUENCE:3
DTSTAMP:20260421T102248Z
URL:https://members.gallatintn.org/events/details/merry-market-at-the-gallatin-farmers-market-33671
END:VEVENT

END:VCALENDAR
