BEGIN:VCALENDAR
VERSION:2.0
PRODID:-//ChamberMaster//Event Calendar 2.0//EN
METHOD:PUBLISH
X-PUBLISHED-TTL:P3D
REFRESH-INTERVAL:P3D
CALSCALE:GREGORIAN
BEGIN:VEVENT
DTSTART:20191016T163000Z
DTEND:20191016T173000Z
X-MICROSOFT-CDO-ALLDAYEVENT:FALSE
SUMMARY:Let's GET Lunch
DESCRIPTION:Join us for a NEW monthly networking opportunity\, exclusive to professionals under 45!\n\n \n\nLunch will be dutch style! \n\nPlease RSVP so we can give the restaurants a head count before we arrive.
X-ALT-DESC;FMTTYPE=text/html:<div style="font-family: Tahoma\, Geneva\, sans-serif\; font-size: 14px\; white-space: pre-wrap\; background-color: rgb(255\, 255\, 255)\; text-align: center\;"><span style="color: rgb(28\, 30\, 33)\;">Join us for a NEW monthly networking opportunity\, exclusive to professionals under 45!</span></div>\n\n<div style="font-family: Tahoma\, Geneva\, sans-serif\; font-size: 14px\; white-space: pre-wrap\; background-color: rgb(255\, 255\, 255)\; text-align: center\;">&nbsp\;</div>\n\n<div style="font-family: Tahoma\, Geneva\, sans-serif\; font-size: 14px\; white-space: pre-wrap\; background-color: rgb(255\, 255\, 255)\; text-align: center\;"><span style="color: rgb(28\, 30\, 33)\;">Lunch will be dutch style! </span></div>\n\n<p style="background-color: rgb(255\, 255\, 255)\; text-align: center\;"><font color="#1c1e21" face="Tahoma\, Geneva\, sans-serif"><span style="font-size: 14px\; white-space: pre-wrap\;">Please RSVP so we can give the restaurants a head count before we arrive. </span></font></p>\n
LOCATION:August: Swaney Swifts on the Square September: Osaka Japanese Resturant October: Logan's Roadhouse November: Prince Street Pizza
UID:e.629.31008
SEQUENCE:3
DTSTAMP:20260422T051220Z
URL:https://members.gallatintn.org/events/details/let-s-get-lunch-10-16-2019-31008
END:VEVENT

END:VCALENDAR
