BEGIN:VCALENDAR
VERSION:2.0
PRODID:-//ChamberMaster//Event Calendar 2.0//EN
METHOD:PUBLISH
X-PUBLISHED-TTL:P3D
REFRESH-INTERVAL:P3D
CALSCALE:GREGORIAN
BEGIN:VEVENT
DTSTART:20211113T160000Z
DTEND:20211113T230000Z
X-MICROSOFT-CDO-ALLDAYEVENT:FALSE
SUMMARY:Holiday Tinsel & Treasures Gallatin's Shop Local Weekend
DESCRIPTION:Holiday Tinsel & Treasures "Shop Local" Weekend\, has been a Gallatin tradition for almost 50 years. Local retail merchants open their doors the 2nd weekend in November every year to shoppers allowing them the chance to start their Christmas shopping early. It is a great opportunity for Gallatin retail businesses to get a jump start on sales before Black Friday or Shop Local Saturday. This tradition continues this year on Saturday\, November 13th & Sunday\, November 14th!\n\n\n\nPresenting Sponsors: \n\nState Farm Agents: Jeannie Gregory\, Craig Hayes\, Matthew Thomson\, and Anna Stephens\n\n\n\nBeretta USA*   Warehouse Sale   Gallatin Civic Center\, 210 Albert Gallatin Ave\n\nBlack Tie Floral Design   967 Grassland Pl\, Ste G\n\nBuff City Soap   624 Davis Dr\n\nCracker Barrel Old Country Store   1005 Village Green Crossings\n\nDavis Sit N Sleep*- 240 W Main St\n\nEarth First Plant Co   142 N Water Ave\n\nGallatin Flower & Gift Shop   210 N Locust Ave\n\nHoney + Suede* - 122 N Water Ave\n\nInside Out Markets * - 562 S Water Ave\n\nMerry Market at the Gallatin Farmers Market "A Unique Handmade Artisan Market"* - 160 W Franklin St\n\nMorrison's Hair Design   530 Hartsville Pike\n\nPerch Home and Hospitality   152 N Water Ave\n\nPickled Treats & Antiques   809 S Water Ave\n\nSassy and Brassy Boutique* - 130 N Water Ave\n\nSchool Sales and Service*   1023 S Water Ave\n\nStone Harmony   101 E Main St\n\nSumner Farmers Co-op* - 450 Red River Rd\n\nTennessee Honey Boutique   140 N Water Ave\n\nThe Artisan Hatchery   158 N Water St\n\nThe Red Tulip   1545 Nashville Pk\n\nThe Secret Garden   114 W Main St\n\nTimeless Treasures   112 N Water Ave\n\nTown Creek Chic   223 N Water Ave\n\n \n\nMerry Moonlight Market at the Gallatin Farmers Market "A Vintage\, Vinyl\, & Maker Market"\n\nOpen Friday Only 6pm to 9pm\n\n \n\n*OPEN SATURDAY ONLY\n\nList current as of 11/03/2021
X-ALT-DESC;FMTTYPE=text/html:<div background-color:="" class="kvgmc6g5 cxmmr5t8 oygrvhab hcukyx3x c1et5uql" color:="" font-size:="" segoe="" style="overflow-wrap: break-word\; margin: 0px\; font-family: " ui="">\n<div background-color:="" class="kvgmc6g5 cxmmr5t8 oygrvhab hcukyx3x c1et5uql" color:="" font-size:="" segoe="" style="overflow-wrap: break-word\; margin: 0px\; font-family: " ui="">Holiday Tinsel &amp\; Treasures &quot\;Shop Local&quot\; Weekend\, has been a Gallatin tradition for almost 50 years. Local retail merchants open their doors the 2nd weekend in November every year to shoppers allowing them the chance to start their Christmas shopping early. It is a great opportunity for Gallatin retail businesses to get a jump start on sales before Black Friday or Shop Local Saturday. This tradition continues this year on Saturday\, November 13th &amp\; Sunday\, November 14th!<br />\n<br />\n<span background-color:="" font-size:="" style="color: rgb(51\, 51\, 51)\; font-family: sans-serif\, Arial\, Verdana\, " trebuchet="">Presenting Sponsors:&nbsp\;</span><br background-color:="" font-size:="" style="color: rgb(51\, 51\, 51)\; font-family: sans-serif\, Arial\, Verdana\, " trebuchet="" />\n<span background-color:="" font-size:="" style="color: rgb(51\, 51\, 51)\; font-family: sans-serif\, Arial\, Verdana\, " trebuchet="">State Farm Agents: Jeannie Gregory\, Craig Hayes\, Matthew Thomson\, and Anna Stephens</span><br />\n<br />\nBeretta USA* &ndash\; Warehouse Sale &ndash\; Gallatin Civic Center\, 210 Albert Gallatin Ave<br />\nBlack Tie Floral Design &ndash\; 967 Grassland Pl\, Ste G<br />\nBuff City Soap &ndash\; 624 Davis Dr<br />\nCracker Barrel Old Country Store &ndash\; 1005 Village Green Crossings<br />\nDavis Sit N Sleep*- 240 W Main St<br />\nEarth First Plant Co &ndash\; 142 N Water Ave<br />\nGallatin Flower &amp\; Gift Shop &ndash\; 210 N Locust Ave<br />\nHoney + Suede* - 122 N Water Ave<br />\nInside Out Markets * - 562 S Water Ave<br />\nMerry Market at the Gallatin Farmers Market &ldquo\;A Unique Handmade Artisan Market&rdquo\;* - 160 W Franklin St<br />\nMorrison&rsquo\;s Hair Design &ndash\; 530 Hartsville Pike<br />\nPerch Home and Hospitality &ndash\; 152 N Water Ave<br />\nPickled Treats &amp\; Antiques &ndash\; 809 S Water Ave<br />\nSassy and Brassy Boutique* - 130 N Water Ave<br />\nSchool Sales and Service* &ndash\; 1023 S Water Ave<br />\nStone Harmony &ndash\; 101 E Main St<br />\nSumner Farmers Co-op* - 450 Red River Rd<br />\nTennessee Honey Boutique &ndash\; 140 N Water Ave<br />\nThe Artisan Hatchery &ndash\; 158 N Water St<br />\nThe Red Tulip &ndash\; 1545 Nashville Pk<br />\nThe Secret Garden &ndash\; 114 W Main St<br />\nTimeless Treasures &ndash\; 112 N Water Ave<br />\nTown Creek Chic &ndash\; 223 N Water Ave<br />\n&nbsp\;<br />\nMerry Moonlight Market at the Gallatin Farmers Market &ldquo\;A Vintage\, Vinyl\, &amp\; Maker Market&rdquo\;<br />\nOpen Friday Only 6pm to 9pm<br />\n&nbsp\;<br />\n*OPEN SATURDAY ONLY<br />\nList current as of 11/03/2021<br />\n&nbsp\;</div>\n</div>\n
LOCATION:Participating Locations: Beretta USA* Warehouse Sale Gallatin Civic Center\, 210 Albert Gallatin Ave Black Tie Floral Design 967 Grassland Pl\, Ste G Buff City Soap 624 Davis Dr Cracker Barrel Old Country Store 1005 Village Green Crossings Davis Sit N Sleep*- 240 W Main St Earth First Plant Co 142 N Water Ave Gallatin Flower & Gift Shop 210 N Locust Ave Honey + Suede* - 122 N Water Ave Inside Out Markets * - 562 S Water Ave Merry Market at the Gallatin Farmers Market "A Unique Handmade Artisan Market"* - 160 W Franklin St Morrison's Hair Design 530 Hartsville Pike Perch Home and Hospitality 152 N Water Ave Pickled Treats & Antiques 809 S Water Ave Sassy and Brassy Boutique* - 130 N Water Ave School Sales and Service* 1023 S Water Ave Sumner Farmers Co-op* - 450 Red River Rd Tennessee Honey Boutique 140 N Water Ave The Artisan Hatchery 158 N Water St The Red Tulip 1545 Nashville Pk The Secret Garden 114 W Main St Timeless Treasures 112 N Water Ave Town Creek Chic 223 N Water Ave Merry Moonlight Market at the Gallatin Farmers Market "A Vintage\, Vinyl\, & Maker Market" Open Friday Only 6pm to 9pm *OPEN SATURDAY ONLY List current as of 11/03/2021
UID:e.629.33026
SEQUENCE:3
DTSTAMP:20260424T172635Z
URL:https://members.gallatintn.org/events/details/holiday-tinsel-treasures-gallatin-s-shop-local-weekend-33026
END:VEVENT

END:VCALENDAR
