BEGIN:VCALENDAR
VERSION:2.0
PRODID:-//ChamberMaster//Event Calendar 2.0//EN
METHOD:PUBLISH
X-PUBLISHED-TTL:P3D
REFRESH-INTERVAL:P3D
CALSCALE:GREGORIAN
BEGIN:VEVENT
DTSTART:20231209T180000Z
DTEND:20231209T200000Z
X-MICROSOFT-CDO-ALLDAYEVENT:FALSE
SUMMARY:Gallatin Christmas Parade Presented by Primrose School of Gallatin
DESCRIPTION:The Primrose School of Gallatin's Gallatin Christmas Parade\, powered by the Gallatin Area Chamber of Commerce\, will take place on Saturday\, December 9th. \n\nThe theme for this year's parade is "The Spirit of Christmas. \n\n \n\nCome enjoy this great Gallatin Tradition with your entire family!  it is a "not to be missed" event! The parade kicks off at 12:00 pm and will end with Santa Claus kicking off the holiday season! \n\n\n\nWant to participate? Registration is CLOSED as of 11/27\n\n\n\nAll participants in the Gallatin Christmas Parade must send a representative to a "Parade Participant Meeting" in order to participate. There are 3 opportunities to attend: \n\nTuesday\, November 28th\, 5:00 pm\, Thursday\, November 30th\, 10:00 am\, or Thursday\, November 30th\, 6:00 pm.  Location: City Hall\, 132 W Main Street\, Gallatin\, Tennessee
X-ALT-DESC;FMTTYPE=text/html:<span style="font-family: Lato\, sans-serif\; font-size: 16px\;">The Primrose School of Gallatin&#39\;s Gallatin Christmas Parade\, powered by the Gallatin Area Chamber of Commerce\, will take place on Saturday\, December 9th.&nbsp\;<br />\nThe theme for this year&#39\;s parade is &quot\;The Spirit of Christmas.&nbsp\;<br />\n&nbsp\;<br />\nCome enjoy this great Gallatin Tradition with your entire family!&nbsp\; it is a &quot\;not to be missed&quot\; event! The parade kicks off at 12:00 pm and will end with Santa Claus kicking off the holiday season!&nbsp\;<br />\n<br />\nWant to participate? Registration is CLOSED as of 11/27</span><br />\n<br />\n<span style="font-family: Lato\, sans-serif\; font-size: 16px\;">All participants in the Gallatin Christmas Parade must send a representative to a &quot\;Parade Participant Meeting&quot\; in order to participate. There are 3 opportunities to attend:&nbsp\;<br />\nTuesday\, November 28th</span><span style="font-size: 16px\;"><font color="#222222" face="YACgEYmuCJE 0\, _fb_\, auto">\, 5:00 pm\, Thursday\, November 30th\, 10:00 am\, or Thursday\, November 30th\, 6:00 pm.&nbsp\; Location: City Hall\, 132 W Main Street\, Gallatin\, Tennessee</font></span>
LOCATION:Downtown Gallatin The parade can be viewed from anywhere along the parade route (Hartsville Pike\, down Main Street\, and Broadway to Gallatin High School).
UID:e.629.34961
SEQUENCE:3
DTSTAMP:20260421T101321Z
URL:https://members.gallatintn.org/events/details/gallatin-christmas-parade-presented-by-primrose-school-of-gallatin-34961
END:VEVENT

END:VCALENDAR
