BEGIN:VCALENDAR
VERSION:2.0
PRODID:-//ChamberMaster//Event Calendar 2.0//EN
METHOD:PUBLISH
X-PUBLISHED-TTL:P3D
REFRESH-INTERVAL:P3D
CALSCALE:GREGORIAN
BEGIN:VEVENT
DTSTART:20261212T180000Z
DTEND:20261212T200000Z
X-MICROSOFT-CDO-ALLDAYEVENT:FALSE
SUMMARY:Gallatin Christmas Parade - Presented by Primrose School Gallatin
DESCRIPTION:The Gallatin Christmas Parade\, presented by Primrose School of Gallatin and powered by the Gallatin Area Chamber of Commerce\, will take place on Saturday\, December 12th. \nRegistration is required to participate. Registration will open soon!\n\n\n\nCome enjoy this great Gallatin Tradition with your entire family!  It is a "not to be missed" event! The parade kicks off at 12:00 pm and will end with Santa Claus kicking off the holiday season! \n\n \nWant to participate? Registration will open soon and will be OPEN through November 22. \n\n\n\nAll participants in the Gallatin Christmas Parade must send a representative to a "Parade Participant Meeting" to participate. There are 3 opportunities to attend:\n\n\n	Tuesday\, ________ at 5:00 PM (The Station - 117 W Main St)\, \n	Thursday\, _______________ at 10:00 AM (The Station\, 117 w Main Street)\n	Thursday\, _______________ at 6:00 PM (The Station\, 117 W Main Street)
X-ALT-DESC;FMTTYPE=text/html:<span style="font-family:arial\;"><span style="color: rgb(51\, 51\, 51)\;">The Gallatin Christmas Parade\, presented by Primrose School of Gallatin and powered by the Gallatin Area Chamber of Commerce\, will take place on Saturday\, December 12th.&nbsp\;</span></span>\n<p><span style="font-family:arial\;"><span style="color: rgb(51\, 51\, 51)\;">Registration is required to participate. Registration will open soon!</span><br />\n<br />\nCome enjoy this great Gallatin Tradition with your entire family!&nbsp\; It is a &quot\;not to be missed&quot\; event! The parade kicks off at 12:00 pm and will end with Santa Claus kicking off the holiday season!&nbsp\;</span><br />\n&nbsp\;</p>\n<span style="font-family:arial\;"><span style="color: rgb(51\, 51\, 51)\;">Want to participate? Registration will open soon and will be OPEN through November 22.&nbsp\;</span><br font-size:="" style="color: rgb(51\, 51\, 51)\; font-family: sans-serif\, Arial\, Verdana\, " trebuchet="" />\n<br font-size:="" style="color: rgb(51\, 51\, 51)\; font-family: sans-serif\, Arial\, Verdana\, " trebuchet="" />\n<span style="color: rgb(51\, 51\, 51)\;">All participants in the Gallatin Christmas Parade must send a representative to a &quot\;Parade Participant Meeting&quot\; to participate. There are 3 opportunities to attend:</span></span>\n\n<ol>\n	<li><span style="font-family:arial\;"><span style="color: rgb(51\, 51\, 51)\; background-color: rgb(255\, 255\, 255)\;">Tuesday\, ________ at 5:00 PM (The Station - 117 W Main St)\, </span></span></li>\n	<li><span style="font-family:arial\;"><span style="color: rgb(51\, 51\, 51)\; background-color: rgb(255\, 255\, 255)\;">Thursday\, _______________ at 10:00 AM (The Station\, 117 w Main Street)</span></span></li>\n	<li><span style="font-family:arial\;"><span style="color: rgb(51\, 51\, 51)\; background-color: rgb(255\, 255\, 255)\;">Thursday\, _______________ at 6:00 PM (The Station\, 117 W Main Street</span>)</span></li>\n</ol>\n
LOCATION:Downtown Gallatin
UID:e.629.39202
SEQUENCE:3
DTSTAMP:20260422T143337Z
URL:https://members.gallatintn.org/events/details/gallatin-christmas-parade-presented-by-primrose-school-gallatin-39202
END:VEVENT

END:VCALENDAR
