BEGIN:VCALENDAR
VERSION:2.0
PRODID:-//ChamberMaster//Event Calendar 2.0//EN
METHOD:PUBLISH
X-PUBLISHED-TTL:P3D
REFRESH-INTERVAL:P3D
CALSCALE:GREGORIAN
BEGIN:VEVENT
DTSTART:20230602T160000Z
DTEND:20230602T220000Z
X-MICROSOFT-CDO-ALLDAYEVENT:FALSE
SUMMARY:Gallatin Chamber of Commerce Golf Tournament Presented by Lightbridge Academy
DESCRIPTION:Play\, Sponsor and Attend the\n\nLightbridge Academy Golf Tournament \n\nBenefiting The Gallatin Area Chamber of Commerce \n\nFriday\, June 2\, 2023\n\n11:00am- Registration\, Putting Contest\n\nNoon - Tee Time\n\n**Awards Following Tournament\n\n \n\nInterested in having a team play? Team registration is open to everyone. Once your registration form is complete\, email it to angela@gallatintn.org or drop it by the Gallatin Chamber office at 118 W Main Street in Gallatin by Wednesday\, May 3rd at 4pm. \n\n\n\n\n\nAbout our presenting sponsor\, Lightbridge Academy:\n\nLightbridge Academy\, a national leader in preschool and childcare services\, and provides a solid curriculum for children ages six weeks old to Pre-School and offers extended hours\, optional meal plans and summer camp programs. Innovative technology helps parents stay connected to their child throughout the day through the ParentView  Internet monitoring system\, allowing parents access to view their child's classroom at any point in the day via an encrypted\, web-based system\, and the parent eCommunication app\, which tracks a child's daily achievements and allows teachers to send parent's daily reports\, reminders\, photos and even video clips. From the first hello of the day to the last good-bye\, Lightbridge Academy wants every child to feel safe\, nurtured\, and excited to learn and grow\, and for every parent to consider Lightbridge Academy a true partner in the development and education of their child. www.LightbridgeAcademy.com 615-285-3849
X-ALT-DESC;FMTTYPE=text/html:<div style="text-align: center\;"><span style="color: rgb(75\, 79\, 86)\; font-family: Helvetica\, Arial\, sans-serif\; font-size: 14px\;">Play\, Sponsor and Attend the<br />\nLightbridge Academy Golf Tournament&nbsp\;<br />\nBenefiting The Gallatin Area Chamber of Commerce&nbsp\;<br />\nFriday\, June 2\, 2023</span><br style="color: rgb(75\, 79\, 86)\; font-family: Helvetica\, Arial\, sans-serif\; font-size: 14px\;" />\n<span style="color: rgb(75\, 79\, 86)\; font-family: Helvetica\, Arial\, sans-serif\; font-size: 14px\;">11:00am- Registration\, Putting Contest</span><br />\n<span style="color: rgb(75\, 79\, 86)\; font-family: Helvetica\, Arial\, sans-serif\; font-size: 14px\;">Noon - Tee Time</span><br style="color: rgb(75\, 79\, 86)\; font-family: Helvetica\, Arial\, sans-serif\; font-size: 14px\;" />\n<span style="color: rgb(75\, 79\, 86)\; font-family: Helvetica\, Arial\, sans-serif\; font-size: 14px\;">**Awards Following Tournament</span><br />\n&nbsp\;</div>\n\n<div><span style="font-size:14px\;"><em><span background-color:="" font-size:="" style="color: rgb(51\, 51\, 51)\; font-family: sans-serif\, Arial\, Verdana\, " trebuchet="">Interested in having a team play? </span><span background-color:="" font-size:="" style="color: rgb(51\, 51\, 51)\; font-family: sans-serif\, Arial\, Verdana\, " trebuchet="">Team registration is open to everyone. Once your registration form is complete\, email it to angela@gallatintn.org or drop it by the Gallatin Chamber office at 118 W Main Street in Gallatin by Wednesday\, May 3rd&nbsp\;at 4pm.&nbsp\;</span></em></span></div>\n\n<div style="text-align: center\;"><br />\n<br />\n<span background-color:="" font-size:="" segoe="" style="color: rgb(5\, 5\, 5)\; font-family: " ui="">About our presenting sponsor\, Lightbridge Academy:</span><br background-color:="" font-size:="" segoe="" style="color: rgb(5\, 5\, 5)\; font-family: " ui="" />\n<span background-color:="" font-size:="" segoe="" style="color: rgb(5\, 5\, 5)\; font-family: " ui="">Lightbridge Academy\, a national leader in preschool and childcare services\, and&nbsp\;provides a solid curriculum for children ages six weeks old to Pre-School and offers extended hours\, optional meal plans and summer camp programs. Innovative technology helps parents stay connected to their child throughout the day through the ParentView&reg\; Internet monitoring system\, allowing parents access to view their child&rsquo\;s classroom at any point in the day via an encrypted\, web-based system\, and the parent eCommunication app\, which tracks a child&rsquo\;s daily achievements and allows teachers to send parent&rsquo\;s daily reports\, reminders\, photos and even video clips. From the first hello of the day to the last good-bye\, Lightbridge Academy wants every child to feel safe\, nurtured\, and excited to learn and grow\, and for every parent to consider Lightbridge Academy a true partner in the development and education of their child.&nbsp\;</span><a class="oajrlxb2 g5ia77u1 qu0x051f esr5mh6w e9989ue4 r7d6kgcz rq0escxv nhd2j8a9 nc684nl6 p7hjln8o kvgmc6g5 cxmmr5t8 oygrvhab hcukyx3x jb3vyjys rz4wbd8a qt6c0cv9 a8nywdso i1ao9s8h esuyzwwr f1sip0of lzcic4wl py34i1dx gpro0wi8" font-size:="" href="https://l.facebook.com/l.php?u=http%3A%2F%2Fwww.LightbridgeAcademy.com%2F%3Ffbclid%3DIwAR21PIyAbCRkOT_uQ0idI4iERs9vVvVMAHiJqbA7Eohwu_LGC99DOsMbWJ4&amp\;h=AT38fyqZNUFAsTEBLJq_cUNtkbaMxLdHwOfEOZbffzRPXKb3NWfsv37ZFfUGL6Qm11bO1T3FE2VddPZbOJIK3GDS5DvSfMoiuJ5VoXKnQziith6WAmI1amuWTCTz5oFi&amp\;__tn__=q&amp\;c[0]=AT01ZqXDf6TvFpwmH9mB3DkG1NtPdXQHsVbgTuPVHqKztXWdfXppbaVcdG_m-p-4Q3rB_Y9-Nk0DRMXchWgx9JAEekFjHv9PbUGbAWnvaooTmpkJJLhyAsC5Xl_-SDQding2PFmTvc1t5bSY1Vy8Azdmod6fpOPossgvj81fOHoRG5Y" rel="nofollow noopener" role="link" segoe="" style="cursor: pointer\; text-decoration-line: none\; outline: none\; list-style: none\; border-width: 0px\; border-style: initial\; border-color: initial\; padding: 0px\; margin: 0px\; touch-action: manipulation\; background-color: rgb(255\, 255\, 255)\; display: inline\; -webkit-tap-highlight-color: transparent\; box-sizing: border-box\; font-family: " tabindex="0" target="_blank" ui="">www.LightbridgeAcademy.com</a><span background-color:="" font-size:="" segoe="" style="color: rgb(5\, 5\, 5)\; font-family: " ui="">&nbsp\;615-285-3849</span><br />\n<br />\n&nbsp\;</div>\n\n<div>&nbsp\;</div>\n
LOCATION:Long Hollow Golf Course 1080 Long Hollow Pike Gallatin TN
UID:e.629.34951
SEQUENCE:3
DTSTAMP:20260423T174440Z
URL:https://members.gallatintn.org/events/details/gallatin-chamber-of-commerce-golf-tournament-presented-by-lightbridge-academy-34951
END:VEVENT

END:VCALENDAR
