BEGIN:VCALENDAR
VERSION:2.0
PRODID:-//ChamberMaster//Event Calendar 2.0//EN
METHOD:PUBLISH
X-PUBLISHED-TTL:P3D
REFRESH-INTERVAL:P3D
CALSCALE:GREGORIAN
BEGIN:VEVENT
DTSTART:20260605T130000Z
DTEND:20260605T200000Z
X-MICROSOFT-CDO-ALLDAYEVENT:FALSE
SUMMARY:Gallatin Area Chamber of Commerce Golf Tournament
DESCRIPTION:Play\, Sponsor and Attend the Gallatin Area Chamber of Commerce Golf Tournament\n\nBenefiting The Gallatin Area Chamber of Commerce \n\nFriday\, June 5\, 2026\n\n8:00am- Registration\, Putting Contest\n\n9:00 am - Tee Time\n\n**Awards & lunch following tournament\n\n \n\nInterested in having a team play? Team registration is open to everyone. Once your registration form is complete\, email it to angela@gallatintn.org or drop it by the Gallatin Chamber office at 118 W Main Street in Gallatin by Monday\, June 2nd at 4pm. \n\n\n\n \n\n\n\nOur annual Golf Tournament is held in June. Our tournament is a fun way to have one-on-one time with members as well as ?movers and shakers? from all over our Gallatin business community.
X-ALT-DESC;FMTTYPE=text/html:<div>\n<div style="color: rgb(51\, 51\, 51)\; font-family: sans-serif\, Arial\, Verdana\, &quot\;Trebuchet MS&quot\;\; font-size: 13px\; text-align: center\;"><span style="font-family:verdana\;"><span style="color: rgb(75\, 79\, 86)\; font-size: 14px\;">Play\, Sponsor and Attend the Gallatin Area Chamber of Commerce Golf Tournament<br />\nBenefiting The Gallatin Area Chamber of Commerce&nbsp\;<br />\nFriday\, June 5\, 2026</span><br style="color: rgb(75\, 79\, 86)\; font-family: Helvetica\, Arial\, sans-serif\; font-size: 14px\;" />\n<span style="color: rgb(75\, 79\, 86)\; font-size: 14px\;">8:00am- Registration\, Putting Contest</span><br />\n<span style="color: rgb(75\, 79\, 86)\; font-size: 14px\;">9:00 am&nbsp\;- Tee Time</span><br style="color: rgb(75\, 79\, 86)\; font-family: Helvetica\, Arial\, sans-serif\; font-size: 14px\;" />\n<span style="color: rgb(75\, 79\, 86)\; font-size: 14px\;">**Awards &amp\; lunch following tournament</span></span><br />\n&nbsp\;</div>\n\n<div style="color: rgb(51\, 51\, 51)\; font-family: sans-serif\, Arial\, Verdana\, &quot\;Trebuchet MS&quot\;\; font-size: 13px\;"><span style="font-family:verdana\;"><span style="font-size: 14px\;"><em><span background-color:="" font-size:="" trebuchet="">Interested in having a team play?&nbsp\;</span><span background-color:="" font-size:="" trebuchet="">Team registration is open to everyone. Once your registration form is complete\, email it to angela@gallatintn.org or drop it by the Gallatin Chamber office at 118 W Main Street in Gallatin by Monday\, June 2nd at 4pm.&nbsp\;</span></em></span></span></div>\n\n<div style="color: rgb(51\, 51\, 51)\; font-family: sans-serif\, Arial\, Verdana\, &quot\;Trebuchet MS&quot\;\; font-size: 13px\; text-align: center\;"><br />\n&nbsp\;</div>\n\n<p><br />\n<span style="font-family:verdana\;">Our annual Golf Tournament is held in June. Our tournament is a fun way to have one-on-one time with members as well as ?movers and shakers? from all over our Gallatin business community.</span></p>\n</div>\n
LOCATION:Long Hollow Golf Course 1080 Long Hollow Pike Gallatin\, TN 37066
UID:e.629.39235
SEQUENCE:3
DTSTAMP:20260421T224921Z
URL:https://members.gallatintn.org/events/details/gallatin-area-chamber-of-commerce-golf-tournament-39235
END:VEVENT

END:VCALENDAR
