BEGIN:VCALENDAR
VERSION:2.0
PRODID:-//ChamberMaster//Event Calendar 2.0//EN
METHOD:PUBLISH
X-PUBLISHED-TTL:P3D
REFRESH-INTERVAL:P3D
CALSCALE:GREGORIAN
BEGIN:VEVENT
DTSTART:20261109T173000Z
DTEND:20261109T190000Z
X-MICROSOFT-CDO-ALLDAYEVENT:FALSE
SUMMARY:Gallatin Area Chamber November Membership Luncheon
DESCRIPTION:Providing chamber and community members the opportunity to connect\, monthly Chamber luncheons are typically held on the 2nd Monday of each month and feature area experts presenting on timely and relevant topics. Caterers and locations vary\; advanced registration required but is open to current and future members.
X-ALT-DESC;FMTTYPE=text/html:<p>Providing chamber and community members the opportunity to connect\, monthly Chamber luncheons are typically held on the 2nd Monday of each month and feature area experts presenting on timely and relevant topics. Caterers and locations vary\; advanced registration required but is open to current and future members.\n<style type="text/css">\n</style>\n</p>\n
LOCATION:
UID:e.629.38674
SEQUENCE:3
DTSTAMP:20260421T215130Z
URL:https://members.gallatintn.org/events/details/gallatin-area-chamber-november-membership-luncheon-38674
END:VEVENT

END:VCALENDAR
