BEGIN:VCALENDAR
VERSION:2.0
PRODID:-//ChamberMaster//Event Calendar 2.0//EN
METHOD:PUBLISH
X-PUBLISHED-TTL:P3D
REFRESH-INTERVAL:P3D
CALSCALE:GREGORIAN
BEGIN:VEVENT
DTSTART:20210615T213000Z
DTEND:20210615T224500Z
X-MICROSOFT-CDO-ALLDAYEVENT:FALSE
SUMMARY:Eating Smart & Moving More Workshop
DESCRIPTION:Join the UT Extension Office for a series of workshops and learn how to:\n\n	Cook\n	Save money on food\n	Plan meals\n	Eat well\n	Keep your food safe\n	Be active
X-ALT-DESC;FMTTYPE=text/html:Join the UT Extension Office for a series of workshops and learn how to:\n<ul>\n	<li>Cook</li>\n	<li>Save money on food</li>\n	<li>Plan meals</li>\n	<li>Eat well</li>\n	<li>Keep your food safe</li>\n	<li>Be active</li>\n</ul>\n
LOCATION:Millersville Public Library 1174 Lousiville Highway Goodlettsville\, TN 37072
UID:e.629.33392
SEQUENCE:3
DTSTAMP:20260424T144253Z
URL:https://members.gallatintn.org/events/details/eating-smart-moving-more-workshop-06-15-2021-33392
END:VEVENT

END:VCALENDAR
