BEGIN:VCALENDAR
VERSION:2.0
PRODID:-//ChamberMaster//Event Calendar 2.0//EN
METHOD:PUBLISH
X-PUBLISHED-TTL:P3D
REFRESH-INTERVAL:P3D
CALSCALE:GREGORIAN
BEGIN:VEVENT
DTSTART;VALUE=DATE:20260508
DTEND;VALUE=DATE:20260509
TRANSP:TRANSPARENT
X-MICROSOFT-CDO-ALLDAYEVENT:TRUE
SUMMARY:Clothing Giveaway
DESCRIPTION:Clothing Giveaway\n\nMUST be a student of Sumner County Schools
X-ALT-DESC;FMTTYPE=text/html:Clothing Giveaway<br />\nMUST be a student of Sumner County Schools
LOCATION:580 Hawkins Drive Gallatin\, TN
UID:e.629.39364
SEQUENCE:3
DTSTAMP:20260420T054238Z
URL:https://members.gallatintn.org/events/details/clothing-giveaway-39364
END:VEVENT

END:VCALENDAR
