BEGIN:VCALENDAR
VERSION:2.0
PRODID:-//ChamberMaster//Event Calendar 2.0//EN
METHOD:PUBLISH
X-PUBLISHED-TTL:P3D
REFRESH-INTERVAL:P3D
CALSCALE:GREGORIAN
BEGIN:VEVENT
DTSTART:20210501T120000Z
DTEND:20210501T150000Z
X-MICROSOFT-CDO-ALLDAYEVENT:FALSE
SUMMARY:Breakfast at American Legion Post 17
DESCRIPTION:Join us for breakfast! On the first Saturday of each month! 7am to 10am - $6 donation
X-ALT-DESC;FMTTYPE=text/html:Join us for breakfast! On the first Saturday of each month! 7am to 10am - $6 donation&nbsp\;
LOCATION:1140 South Water Gallatin\, TN 37066
UID:e.629.32832
SEQUENCE:3
DTSTAMP:20260421T100204Z
URL:https://members.gallatintn.org/events/details/breakfast-at-american-legion-post-17-05-01-2021-32832
END:VEVENT

END:VCALENDAR
