BEGIN:VCALENDAR
VERSION:2.0
PRODID:-//ChamberMaster//Event Calendar 2.0//EN
METHOD:PUBLISH
X-PUBLISHED-TTL:P3D
REFRESH-INTERVAL:P3D
CALSCALE:GREGORIAN
BEGIN:VEVENT
DTSTART;VALUE=DATE:20260508
DTEND;VALUE=DATE:20260509
TRANSP:TRANSPARENT
X-MICROSOFT-CDO-ALLDAYEVENT:TRUE
SUMMARY:Be Pro Be Proud DRAFT DAY
DESCRIPTION:
X-ALT-DESC;FMTTYPE=text/html:
LOCATION:Sumner County Schools' Carolyn Smith Innovation Center 735 East Main Street Hendersonville\, TN 37075
UID:e.629.39377
SEQUENCE:3
DTSTAMP:20260421T020831Z
URL:https://members.gallatintn.org/events/details/be-pro-be-proud-draft-day-39377
END:VEVENT

END:VCALENDAR
