BEGIN:VCALENDAR
VERSION:2.0
PRODID:-//ChamberMaster//Event Calendar 2.0//EN
METHOD:PUBLISH
X-PUBLISHED-TTL:P3D
REFRESH-INTERVAL:P3D
CALSCALE:GREGORIAN
BEGIN:VEVENT
DTSTART:20260430T133000Z
DTEND:20260430T150000Z
X-MICROSOFT-CDO-ALLDAYEVENT:FALSE
SUMMARY:BANKER ROUNTABLE
DESCRIPTION:Join us for Pathway Lending's Middle Tennessee Banker Roundtable in Gallatin\, presented in partnership with the Gallatin Chamber of Commerce. This exclusive morning event brings lenders and bankers together for meaningful networking\, collaboration\, and insights. We're also proud to feature a distinguished panel of guest speakers!\n\nA complimentary Chick-fila-A breakfast will be provided!
X-ALT-DESC;FMTTYPE=text/html:Join us for Pathway Lending&rsquo\;s Middle Tennessee Banker Roundtable in Gallatin\, presented in partnership with the Gallatin Chamber of Commerce. This exclusive morning event brings lenders and bankers together for meaningful networking\, collaboration\, and insights. We&rsquo\;re also proud to feature a distinguished panel of guest speakers!<br />\nA complimentary Chick-fila-A breakfast will be provided!&nbsp\;<br />\n&nbsp\;
LOCATION:The Station 117 W Main St Gallatin\, TN
UID:e.629.39368
SEQUENCE:3
DTSTAMP:20260420T053958Z
URL:https://members.gallatintn.org/events/details/banker-rountable-39368
END:VEVENT

END:VCALENDAR
