BEGIN:VCALENDAR
VERSION:2.0
PRODID:-//ChamberMaster//Event Calendar 2.0//EN
METHOD:PUBLISH
X-PUBLISHED-TTL:P3D
REFRESH-INTERVAL:P3D
CALSCALE:GREGORIAN
BEGIN:VEVENT
DTSTART:20260708T220000Z
DTEND:20260709T020000Z
X-MICROSOFT-CDO-ALLDAYEVENT:FALSE
SUMMARY:AMERICA 250-Let Freedom Ring on the Square
DESCRIPTION:
X-ALT-DESC;FMTTYPE=text/html:
LOCATION:
UID:e.629.39358
SEQUENCE:3
DTSTAMP:20260420T054502Z
URL:https://members.gallatintn.org/events/details/america-250-let-freedom-ring-on-the-square-39358
END:VEVENT

END:VCALENDAR
