BEGIN:VCALENDAR
VERSION:2.0
PRODID:-//ChamberMaster//Event Calendar 2.0//EN
METHOD:PUBLISH
X-PUBLISHED-TTL:P3D
REFRESH-INTERVAL:P3D
CALSCALE:GREGORIAN
BEGIN:VEVENT
DTSTART:20260502T150000Z
DTEND:20260502T190000Z
X-MICROSOFT-CDO-ALLDAYEVENT:FALSE
SUMMARY:Actors Point Theatre Company Curtain Raiser Celebration
DESCRIPTION:A fun-filled day for the family with a "Charlie and the Chocolate Factory" twist! Get ready for live entertainment by previous students & professionals\, a chocolate fountain\, bounce houses\, games\, food trucks\, a silent auction\, and more! Your admission helps fund student scholarships for our summer camps\, provides performing opportunities\, and helps make theatre accessible for students in our community! Actors Point Theatre Company is the theatre company in residence at Vol State.
X-ALT-DESC;FMTTYPE=text/html:A fun-filled day for the family with a &quot\;Charlie and the Chocolate Factory&quot\; twist! Get ready for live entertainment by previous students &amp\; professionals\, a chocolate fountain\, bounce houses\, games\, food trucks\, a silent auction\, and more! Your admission helps fund student scholarships for our summer camps\, provides performing opportunities\, and helps make theatre accessible for students in our community! Actors Point Theatre Company is the theatre company in residence at Vol State.
LOCATION:Cornerstone Hendersonville 1410 Kingdom Way Hendersonville\, TN 37075
UID:e.629.39367
SEQUENCE:3
DTSTAMP:20260420T054610Z
URL:https://members.gallatintn.org/events/details/actors-point-theatre-company-curtain-raiser-celebration-39367
END:VEVENT

END:VCALENDAR
