BEGIN:VCALENDAR
VERSION:2.0
PRODID:-//ChamberMaster//Event Calendar 2.0//EN
METHOD:PUBLISH
X-PUBLISHED-TTL:P3D
REFRESH-INTERVAL:P3D
CALSCALE:GREGORIAN
BEGIN:VEVENT
DTSTART:20220618T140000Z
DTEND:20220618T190000Z
X-MICROSOFT-CDO-ALLDAYEVENT:FALSE
SUMMARY:A Walk Through Sumner Gardens
DESCRIPTION:Self-guided garden tours of five Sumner Co. residents gardens. You may start at the garden closest to you and travel the circuit of five gardens or just stroll through two or three. Flowers\, blueberries\, and bulbs are sold at several of the gardens. Their will be Master Gardeners at each site to answer questions and help with the tours. No restrooms or other facilities are available at any site. Tours are rain or shine (no rain date.)
X-ALT-DESC;FMTTYPE=text/html:Self-guided garden tours of five Sumner Co. residents gardens. You may start at the garden closest to you and travel the circuit of five gardens or just stroll through two or three. Flowers\, blueberries\, and bulbs are sold at several of the gardens. Their will be Master Gardeners at each site to answer questions and help with the tours. No restrooms or other facilities are available at any site. Tours are rain or shine (no rain date.)
LOCATION:John Hicks\, 130 Riviera Dr.\, Hendersonville Alice & Phil LeGer\, 102 St. Andrew Dr.\, Hville Jubilee Gardens\, 1005 Grider Dr.\, Gallatin Jubilee Farm\, 343 St. Blaise Rd.\, Gallatin Jolene Fetcher\, 1012 Broughton Pl\, Gallatin
UID:e.629.34308
SEQUENCE:3
DTSTAMP:20260421T082911Z
URL:https://members.gallatintn.org/events/details/a-walk-through-sumner-gardens-34308
END:VEVENT

END:VCALENDAR
